BEGIN:VCALENDAR
VERSION:2.0
PRODID:-//Meet in Marshalltown - ECPv6.15.17.1//NONSGML v1.0//EN
CALSCALE:GREGORIAN
METHOD:PUBLISH
X-ORIGINAL-URL:https://www.meetinmarshalltown.com
X-WR-CALDESC:Events for Meet in Marshalltown
REFRESH-INTERVAL;VALUE=DURATION:PT1H
X-Robots-Tag:noindex
X-PUBLISHED-TTL:PT1H
BEGIN:VTIMEZONE
TZID:America/Chicago
BEGIN:DAYLIGHT
TZOFFSETFROM:-0600
TZOFFSETTO:-0500
TZNAME:CDT
DTSTART:20250309T080000
END:DAYLIGHT
BEGIN:STANDARD
TZOFFSETFROM:-0500
TZOFFSETTO:-0600
TZNAME:CST
DTSTART:20251102T070000
END:STANDARD
BEGIN:DAYLIGHT
TZOFFSETFROM:-0600
TZOFFSETTO:-0500
TZNAME:CDT
DTSTART:20260308T080000
END:DAYLIGHT
BEGIN:STANDARD
TZOFFSETFROM:-0500
TZOFFSETTO:-0600
TZNAME:CST
DTSTART:20261101T070000
END:STANDARD
BEGIN:DAYLIGHT
TZOFFSETFROM:-0600
TZOFFSETTO:-0500
TZNAME:CDT
DTSTART:20270314T080000
END:DAYLIGHT
BEGIN:STANDARD
TZOFFSETFROM:-0500
TZOFFSETTO:-0600
TZNAME:CST
DTSTART:20271107T070000
END:STANDARD
END:VTIMEZONE
BEGIN:VEVENT
DTSTART;TZID=America/Chicago:20260505T170000
DTEND;TZID=America/Chicago:20260505T190000
DTSTAMP:20260420T161141
CREATED:20260420T134001Z
LAST-MODIFIED:20260420T144526Z
UID:10003225-1778000400-1778007600@www.meetinmarshalltown.com
SUMMARY:Tacos & Tequila
DESCRIPTION:Registration: https://forms.gle/5cWHvhJMsLXSq27w5Get ready for a flavorful evening for Tacos & Tequila! Date: May 5th Time: 5:00 PM Location: Midnight Garden (1501 S. 17th Ave) An evening designed to elevate your palate. You’ll enjoy a curated experience featuring a flight of premium tequila expertly paired with gourmet tacos bringing together bold\, unforgettable flavors in every bite and sip. $50 per person This event is a fundraiser for our Red\, White & Blue Celebration. All proceeds will go directly toward supporting the committee and making our 4th of July event a success. Questions? Contact Dylan Does\, Tourism Director at (641-753-6645/ddoes@marshalltown.org)\n https://marshalltownareachamberofcommerceia.growthzoneapp.com/chamber-events/Details/tacos-tequila-1700122?sourceTypeId=Hub
URL:https://www.meetinmarshalltown.com/event/tacos-tequila/
LOCATION:1501 S. 17th Ave. Marshalltown IA 50158
END:VEVENT
BEGIN:VEVENT
DTSTART;TZID=America/Chicago:20260507T180000
DTEND;TZID=America/Chicago:20260507T200000
DTSTAMP:20260420T161141
CREATED:20260420T134001Z
LAST-MODIFIED:20260420T144526Z
UID:10003235-1778176800-1778184000@www.meetinmarshalltown.com
SUMMARY:Red\, White & Bowl!
DESCRIPTION:Registration: https://forms.gle/QawyiCQksHVM938n9Get ready for a fun-filled evening at Red\, White & Bowl! Date: May 7th Time: Starting at 6:00 PM Location: Wayward Social (1101 S 6th St) Join us for a Neon Bowling Night to help fundraise for our Red\, White & Blue Celebration! Gather your friends or sign up individually we’ll help create teams for a great night of fun\, energy\, and a little friendly competition. $60 per person (we will make teams) $300 per team (up to 5 people) Limited spots are available\, so be sure to sign up fast! This event is a fundraiser for our Red\, White & Blue Celebration. All proceeds will go directly toward supporting the committee and making our 4th of July event a success. Questions? Contact Dylan Does\, Tourism Director at (641-753-6645/ddoes@marshalltown.org\n https://marshalltownareachamberofcommerceia.growthzoneapp.com/chamber-events/Details/red-white-bowl-1700118?sourceTypeId=Hub
URL:https://www.meetinmarshalltown.com/event/red-white-bowl/
LOCATION:1101 South 6th St Marshalltown IA 50158
END:VEVENT
BEGIN:VEVENT
DTSTART;TZID=America/Chicago:20260612T170000
DTEND;TZID=America/Chicago:20260612T190000
DTSTAMP:20260420T161141
CREATED:20260304T145930Z
LAST-MODIFIED:20260420T144527Z
UID:10003195-1781283600-1781290800@www.meetinmarshalltown.com
SUMMARY:MCBD Presents Live After 5
DESCRIPTION:Live After Five is entering a new chapter as MCBD proudly carries on the tradition started by the original creators\, continuing to offer free live music in downtown Marshalltown. These Friday night concerts bring friends\, families\, and music lovers together to enjoy local bands\, drinks\, food trucks\, and summer evenings downtown.\nLive After Five takes place on Main Street’s Event Block\, located on the north side of the Courthouse\, on Main Street between Center Street and 1st Avenue.More details to come!\n https://marshalltownareachamberofcommerceia.growthzoneapp.com/chamber-events/Details/mcbd-presents-live-after-5-1613219?sourceTypeId=Hub
URL:https://www.meetinmarshalltown.com/event/mcbd-presents-live-after-5/
LOCATION:Marshalltown IA
END:VEVENT
BEGIN:VEVENT
DTSTART;TZID=America/Chicago:20260612T170000
DTEND;TZID=America/Chicago:20260612T190000
DTSTAMP:20260420T161141
CREATED:20260304T145931Z
LAST-MODIFIED:20260304T145931Z
UID:10003205-1781283600-1781290800@www.meetinmarshalltown.com
SUMMARY:MCBD Presents Live After 5
DESCRIPTION:Live After Five is entering a new chapter as MCBD proudly carries on the tradition started by the original creators\, continuing to offer free live music in downtown Marshalltown. These Friday night concerts bring friends\, families\, and music lovers together to enjoy local bands\, drinks\, food trucks\, and summer evenings downtown.\nLive After Five takes place on Main Street’s Event Block\, located on the north side of the Courthouse\, on Main Street between Center Street and 1st Avenue.More details to come!\n https://marshalltownareachamberofcommerceia.growthzoneapp.com/chamber-events/Details/mcbd-presents-live-after-5-1613219?sourceTypeId=Hub
URL:https://www.meetinmarshalltown.com/event/mcbd-presents-live-after-5-2/
LOCATION:Marshalltown IA
END:VEVENT
END:VCALENDAR